BEGIN:VCALENDAR
VERSION:2.0
PRODID:-//North of Lonesome - ECPv6.15.20//NONSGML v1.0//EN
CALSCALE:GREGORIAN
METHOD:PUBLISH
X-WR-CALNAME:North of Lonesome
X-ORIGINAL-URL:https://northoflonesome.com
X-WR-CALDESC:Events for North of Lonesome
REFRESH-INTERVAL;VALUE=DURATION:PT1H
X-Robots-Tag:noindex
X-PUBLISHED-TTL:PT1H
BEGIN:VTIMEZONE
TZID:America/Phoenix
BEGIN:STANDARD
TZOFFSETFROM:-0700
TZOFFSETTO:-0700
TZNAME:MST
DTSTART:20220101T000000
END:STANDARD
END:VTIMEZONE
BEGIN:VEVENT
DTSTART;VALUE=DATE:20240204
DTEND;VALUE=DATE:20240205
DTSTAMP:20260424T165102
CREATED:20230731T011911Z
LAST-MODIFIED:20230731T011911Z
UID:1478-1707004800-1707091199@northoflonesome.com
SUMMARY:ABA Bluegrass Roundup
DESCRIPTION:Hosted by the Florence Music Festival & Arizona Bluegrass Association
URL:https://northoflonesome.com/event/aba-bluegrass-roundup/
LOCATION:Charles Whitlow Rodeo Arena & Event Center\, 11608 AZ-79\, Florence\, AZ\, 85132\, United States
END:VEVENT
BEGIN:VEVENT
DTSTART;TZID=America/Phoenix:20231202T130000
DTEND;TZID=America/Phoenix:20231202T160000
DTSTAMP:20260424T165102
CREATED:20231023T180852Z
LAST-MODIFIED:20231023T181200Z
UID:1581-1701522000-1701532800@northoflonesome.com
SUMMARY:GTAA Private Event
DESCRIPTION:Hire North of Lonesome for your next party or event!
URL:https://northoflonesome.com/event/private-event/
LOCATION:Scottsdale\, AZ
END:VEVENT
BEGIN:VEVENT
DTSTART;VALUE=DATE:20231110
DTEND;VALUE=DATE:20231113
DTSTAMP:20260424T165102
CREATED:20230814T172215Z
LAST-MODIFIED:20230814T172614Z
UID:1549-1699574400-1699833599@northoflonesome.com
SUMMARY:Wickenburg Bluegrass-Five Sets!
DESCRIPTION:Come see North of Lonesome at the 44th Annual Four Corner States Bluegrass Festival in Wickenburg\, Arizona. When we’re not on stage\, we’ll probably be jamming so stop by and say “Hi”!
URL:https://northoflonesome.com/event/wickenburg-bluegrass-five-sets/
LOCATION:Wickenburg Rodeo Grounds\, 935 Constellation Rd.\, Wickenburg\, AZ\, 85390\, United States
END:VEVENT
BEGIN:VEVENT
DTSTART;TZID=America/Phoenix:20231016T160000
DTEND;TZID=America/Phoenix:20231016T180000
DTSTAMP:20260424T165102
CREATED:20230925T145546Z
LAST-MODIFIED:20230925T145642Z
UID:1576-1697472000-1697479200@northoflonesome.com
SUMMARY:Paul’s Car Wash for Big Brothers Big Sisters
DESCRIPTION:North of Lonesome will be joining Arizona’s Family Weather Anchor Paul Horton for a fundraiser to benefit Big Brothers Big Sisters one-to-one mentoring programs. Come dance and donate!
URL:https://northoflonesome.com/event/pauls-car-wash-for-big-brothers-big-sisters/
LOCATION:Desert Ridge Marketplace\, 21001 N. Tatum Blvd.\, Phoenix\, AZ\, 85050\, United States
END:VEVENT
BEGIN:VEVENT
DTSTART;TZID=America/Phoenix:20230827T173000
DTEND;TZID=America/Phoenix:20230827T183000
DTSTAMP:20260424T165102
CREATED:20230731T005425Z
LAST-MODIFIED:20230731T005425Z
UID:1468-1693157400-1693161000@northoflonesome.com
SUMMARY:Mountain View Baptist Church
DESCRIPTION:We’ll be doing a gospel set – don’t miss hearing Rick sing “It’s Hot Down Here!”
URL:https://northoflonesome.com/event/mountain-view-baptist-church/
LOCATION:Mountain View Baptist Church\, 395 Pony Place\, Dewey\, AZ\, United States
END:VEVENT
BEGIN:VEVENT
DTSTART;TZID=America/Phoenix:20230807T180000
DTEND;TZID=America/Phoenix:20230807T190000
DTSTAMP:20260424T165102
CREATED:20230731T005140Z
LAST-MODIFIED:20230731T011350Z
UID:1465-1691431200-1691434800@northoflonesome.com
SUMMARY:Arizona Live Music Cooperative
DESCRIPTION:We’re the featured act!
URL:https://northoflonesome.com/event/arizona-live-music-cooperative-2/
LOCATION:Arizona Live Music Cooperative\, 13625 N. 32nd Street\, Phoenix\, AZ\, United States
END:VEVENT
BEGIN:VEVENT
DTSTART;TZID=America/Phoenix:20230724T193000
DTEND;TZID=America/Phoenix:20230724T200000
DTSTAMP:20260424T165102
CREATED:20230327T013906Z
LAST-MODIFIED:20230327T025522Z
UID:1366-1690227000-1690228800@northoflonesome.com
SUMMARY:Arizona Live Music Cooperative
DESCRIPTION:North of Lonesome will be the featured set at this great North Phoenix stage! \nThe Arizona Live Music Cooperative is hosted by Cowboy Wrecks and Glen Gardner.
URL:https://northoflonesome.com/event/arizona-live-music-cooperative/
LOCATION:Genesis Church Phoenix\, 13625 N 32nd St\, Phoenix\, AZ\, 85032
END:VEVENT
BEGIN:VEVENT
DTSTART;TZID=America/Phoenix:20230624T000000
DTEND;TZID=America/Phoenix:20230625T235959
DTSTAMP:20260424T165102
CREATED:20230327T012800Z
LAST-MODIFIED:20230327T013033Z
UID:1362-1687564800-1687737599@northoflonesome.com
SUMMARY:Prescott Bluegrass Festival
DESCRIPTION:Come see North of Lonesome at the Prescott Bluegrass Festival in June!
URL:https://northoflonesome.com/event/prescott-bluegrass-festival/
LOCATION:Yavapai County Courthouse Plaza\, Goodwin Street\, Prescott\, AZ\, 86303
END:VEVENT
BEGIN:VEVENT
DTSTART;VALUE=DATE:20230311
DTEND;VALUE=DATE:20230312
DTSTAMP:20260424T165102
CREATED:20221105T004854Z
LAST-MODIFIED:20221105T004854Z
UID:1060-1678492800-1678579199@northoflonesome.com
SUMMARY:Desert Bluegrass Association Festival
DESCRIPTION:Join North of Lonesome at this great festival in Marana.
URL:https://northoflonesome.com/event/desert-bluegrass-association-festival/
LOCATION:Gladden Farms Community Park\, 12205 North Tangerine Farms Rd.\, Marana\, AZ\, 85653\, United States
END:VEVENT
END:VCALENDAR