BEGIN:VCALENDAR
VERSION:2.0
PRODID:-//North of Lonesome - ECPv6.15.20//NONSGML v1.0//EN
CALSCALE:GREGORIAN
METHOD:PUBLISH
X-WR-CALNAME:North of Lonesome
X-ORIGINAL-URL:https://northoflonesome.com
X-WR-CALDESC:Events for North of Lonesome
REFRESH-INTERVAL;VALUE=DURATION:PT1H
X-Robots-Tag:noindex
X-PUBLISHED-TTL:PT1H
BEGIN:VTIMEZONE
TZID:America/Phoenix
BEGIN:STANDARD
TZOFFSETFROM:-0700
TZOFFSETTO:-0700
TZNAME:MST
DTSTART:20250101T000000
END:STANDARD
END:VTIMEZONE
BEGIN:VEVENT
DTSTART;TZID=America/Phoenix:20260426T170000
DTEND;TZID=America/Phoenix:20260426T170000
DTSTAMP:20260424T053237
CREATED:20251031T190645Z
LAST-MODIFIED:20251031T201337Z
UID:1761-1777222800-1777222800@northoflonesome.com
SUMMARY:North of Lonesome at Mountain View Baptist Church
DESCRIPTION:
URL:https://northoflonesome.com/event/north-of-lonesome-at-mountain-view-baptist-church-3/
LOCATION:Mountain View Baptist Church\, 395 Pony Place\, Dewey\, AZ\, United States
END:VEVENT
BEGIN:VEVENT
DTSTART;TZID=America/Phoenix:20260512T180000
DTEND;TZID=America/Phoenix:20260512T200000
DTSTAMP:20260424T053237
CREATED:20260116T221050Z
LAST-MODIFIED:20260116T221050Z
UID:1779-1778608800-1778616000@northoflonesome.com
SUMMARY:Gaslight Music Hall\, Oro Valley
DESCRIPTION:
URL:https://northoflonesome.com/event/gaslight-music-hall-oro-valley/
LOCATION:Gaslight Music Hall\, 13005 N Oracle Rd\, Oro Valley\, AZ\, 85739\, United States
END:VEVENT
END:VCALENDAR